BEGIN:VCALENDAR
VERSION:2.0
CALSCALE:GREGORIAN
METHOD:PUBLISH
X-WR-CALDESC:
X-WR-CALNAME:Статусмейт
BEGIN:VEVENT
SUMMARY:Обновление UI и API
DTSTART:20260417T160000Z
DTEND:20260417T170000Z
DTSTAMP:20260421T142700Z
UID:ff53245f-bf2b-4b7a-ae09-2a70053d9602
CATEGORIES:
CREATED:20260417T081841Z
DESCRIPTION:Техническое обслуживание было ус
 пешно завершено! Спасибо\, что были с нам
 и. Если после обслуживания вы испытывает
 е какие-либо сложности в работе услуги\, 
 пожалуйста\, напишите в нашу службу подд
 ержки.
URL:https://status.statusmate.ru/m/ff53245f-bf2b-4b7a-ae09-2a70053d9602/
END:VEVENT
BEGIN:VEVENT
SUMMARY:Обновление API
DTSTART:20260305T170000Z
DTEND:20260305T180000Z
DTSTAMP:20260421T142700Z
UID:83900ab0-4421-4f34-bc24-196fb218898f
CATEGORIES:
CREATED:20260303T084059Z
DESCRIPTION:Техническое обслуживание было ус
 пешно завершено! Спасибо\, что были с нам
 и. Если после обслуживания вы испытывает
 е какие-либо сложности в работе услуги\, 
 пожалуйста\, напишите в нашу службу подд
 ержки.
URL:https://status.statusmate.ru/m/83900ab0-4421-4f34-bc24-196fb218898f/
END:VEVENT
BEGIN:VEVENT
SUMMARY:Обновление API
DTSTART:20260225T150000Z
DTEND:20260225T160000Z
DTSTAMP:20260421T142700Z
UID:785cd657-41f9-4de1-bfc6-a00d9f3789f3
CATEGORIES:
CREATED:20260225T074617Z
DESCRIPTION:Техническое обслуживание было ус
 пешно завершено! Спасибо\, что были с нам
 и. Если после обслуживания вы испытывает
 е какие-либо сложности в работе услуги\, 
 пожалуйста\, напишите в нашу службу подд
 ержки.
URL:https://status.statusmate.ru/m/785cd657-41f9-4de1-bfc6-a00d9f3789f3/
END:VEVENT
BEGIN:VEVENT
SUMMARY:Обновление UI и API
DTSTART:20260218T150000Z
DTEND:20260218T154232Z
DTSTAMP:20260421T142700Z
UID:f04e73e2-298d-4e89-9fc7-555d6b8b7d93
CATEGORIES:
CREATED:20260218T095646Z
DESCRIPTION:Техническое обслуживание было ус
 пешно завершено! Спасибо\, что были с нам
 и. Если после обслуживания вы испытывает
 е какие-либо сложности в работе услуги\, 
 пожалуйста\, напишите в нашу службу подд
 ержки.
URL:https://status.statusmate.ru/m/f04e73e2-298d-4e89-9fc7-555d6b8b7d93/
END:VEVENT
BEGIN:VEVENT
SUMMARY:Обновление API
DTSTART:20260128T163000Z
DTEND:20260128T173000Z
DTSTAMP:20260421T142700Z
UID:fa8971fc-50e3-43c9-a5b0-c65187055625
CATEGORIES:
CREATED:20260128T115014Z
DESCRIPTION:Техническое обслуживание было ус
 пешно завершено! Спасибо\, что были с нам
 и. Если после обслуживания вы испытывает
 е какие-либо сложности в работе услуги\, 
 пожалуйста\, напишите в нашу службу подд
 ержки.
URL:https://status.statusmate.ru/m/fa8971fc-50e3-43c9-a5b0-c65187055625/
END:VEVENT
BEGIN:VEVENT
SUMMARY:Обновление API
DTSTART:20260118T133000Z
DTEND:20260118T143000Z
DTSTAMP:20260421T142700Z
UID:cb49f21c-7384-41ba-b4b9-5972649c128b
CATEGORIES:
CREATED:20260118T131237Z
DESCRIPTION:Техническое обслуживание было ус
 пешно завершено! Спасибо\, что были с нам
 и. Если после обслуживания вы испытывает
 е какие-либо сложности в работе услуги\, 
 пожалуйста\, напишите в нашу службу подд
 ержки.
URL:https://status.statusmate.ru/m/cb49f21c-7384-41ba-b4b9-5972649c128b/
END:VEVENT
BEGIN:VEVENT
SUMMARY:Обновление UI и API
DTSTART:20251215T170000Z
DTEND:20251215T171614Z
DTSTAMP:20260421T142700Z
UID:f8943cab-d239-42a2-bd2c-70658413da0a
CATEGORIES:
CREATED:20251215T083849Z
DESCRIPTION:Техническое обслуживание было ус
 пешно завершено! Спасибо\, что были с нам
 и. Если после обслуживания вы испытывает
 е какие-либо сложности в работе услуги\, 
 пожалуйста\, напишите в нашу службу подд
 ержки.
URL:https://status.statusmate.ru/m/f8943cab-d239-42a2-bd2c-70658413da0a/
END:VEVENT
BEGIN:VEVENT
SUMMARY:Обновление UI
DTSTART:20251207T180000Z
DTEND:20251207T190000Z
DTSTAMP:20260421T142700Z
UID:dcef730c-0157-488a-b8f8-086e47091dd3
CATEGORIES:
CREATED:20251207T104728Z
DESCRIPTION:Техническое обслуживание было ус
 пешно завершено! Спасибо\, что были с нам
 и. Если после обслуживания вы испытывает
 е какие-либо сложности в работе услуги\, 
 пожалуйста\, напишите в нашу службу подд
 ержки.
URL:https://status.statusmate.ru/m/dcef730c-0157-488a-b8f8-086e47091dd3/
END:VEVENT
BEGIN:VEVENT
SUMMARY:Обновление UI и API
DTSTART:20251107T170000Z
DTEND:20251107T180000Z
DTSTAMP:20260421T142700Z
UID:6fa2e6fa-d446-4fe1-b818-a0ccabf102b4
CATEGORIES:
CREATED:20251106T095142Z
DESCRIPTION:Техническое обслуживание было ус
 пешно завершено! Спасибо\, что были с нам
 и. Если после обслуживания вы испытывает
 е какие-либо сложности в работе услуги\, 
 пожалуйста\, напишите в нашу службу подд
 ержки.
URL:https://status.statusmate.ru/m/6fa2e6fa-d446-4fe1-b818-a0ccabf102b4/
END:VEVENT
BEGIN:VEVENT
SUMMARY:Обновление API
DTSTART:20250710T170000Z
DTEND:20250710T180000Z
DTSTAMP:20260421T142700Z
UID:eaa12214-f383-4524-9718-0585a6e8a1ba
CATEGORIES:
CREATED:20250710T140225Z
DESCRIPTION:Техническое обслуживание было ус
 пешно завершено! Спасибо\, что были с нам
 и. Если после обслуживания вы испытывает
 е какие-либо сложности в работе услуги\, 
 пожалуйста\, напишите в нашу службу подд
 ержки.
URL:https://status.statusmate.ru/m/eaa12214-f383-4524-9718-0585a6e8a1ba/
END:VEVENT
BEGIN:VEVENT
SUMMARY:Обновление UI
DTSTART:20250704T170000Z
DTEND:20250704T171000Z
DTSTAMP:20260421T142700Z
UID:e32fe3aa-3ffc-4522-9972-5ce095bae937
CATEGORIES:
CREATED:20250704T080920Z
DESCRIPTION:Техническое обслуживание было ус
 пешно завершено! Спасибо\, что были с нам
 и. Если после обслуживания вы испытывает
 е какие-либо сложности в работе услуги\, 
 пожалуйста\, напишите в нашу службу подд
 ержки.
URL:https://status.statusmate.ru/m/e32fe3aa-3ffc-4522-9972-5ce095bae937/
END:VEVENT
BEGIN:VEVENT
SUMMARY:Обновление API
DTSTART:20250630T170000Z
DTEND:20250630T180000Z
DTSTAMP:20260421T142700Z
UID:6c6fda74-97ce-4476-92d1-72f077ecab59
CATEGORIES:
CREATED:20250630T093854Z
DESCRIPTION:Техническое обслуживание было ус
 пешно завершено! Спасибо\, что были с нам
 и. Если после обслуживания вы испытывает
 е какие-либо сложности в работе услуги\, 
 пожалуйста\, напишите в нашу службу подд
 ержки.
URL:https://status.statusmate.ru/m/6c6fda74-97ce-4476-92d1-72f077ecab59/
END:VEVENT
BEGIN:VEVENT
SUMMARY:Обновление UI
DTSTART:20250627T170000Z
DTEND:20250627T170642Z
DTSTAMP:20260421T142700Z
UID:1179adb2-255b-4126-9be1-a471b513819d
CATEGORIES:
CREATED:20250627T120906Z
DESCRIPTION:Техническое обслуживание было ус
 пешно завершено! Спасибо\, что были с нам
 и. Если после обслуживания вы испытывает
 е какие-либо сложности в работе услуги\, 
 пожалуйста\, напишите в нашу службу подд
 ержки.
URL:https://status.statusmate.ru/m/1179adb2-255b-4126-9be1-a471b513819d/
END:VEVENT
BEGIN:VEVENT
SUMMARY:Обновление UI и API
DTSTART:20250626T170000Z
DTEND:20250626T180000Z
DTSTAMP:20260421T142700Z
UID:ad11232b-cd02-4b03-8a2a-00866d0c0aa1
CATEGORIES:
CREATED:20250625T122941Z
DESCRIPTION:Техническое обслуживание было ус
 пешно завершено! Спасибо\, что были с нам
 и. Если после обслуживания вы испытывает
 е какие-либо сложности в работе услуги\, 
 пожалуйста\, напишите в нашу службу подд
 ержки.
URL:https://status.statusmate.ru/m/ad11232b-cd02-4b03-8a2a-00866d0c0aa1/
END:VEVENT
BEGIN:VEVENT
SUMMARY:Обновление UI
DTSTART:20250602T130000Z
DTEND:20250602T131000Z
DTSTAMP:20260421T142700Z
UID:b52e0c8c-b2eb-49d1-956f-9e7addc69e92
CATEGORIES:
CREATED:20250602T113855Z
DESCRIPTION:Техническое обслуживание было ус
 пешно завершено! Спасибо\, что были с нам
 и. Если после обслуживания вы испытывает
 е какие-либо сложности в работе услуги\, 
 пожалуйста\, напишите в нашу службу подд
 ержки.
URL:https://status.statusmate.ru/m/b52e0c8c-b2eb-49d1-956f-9e7addc69e92/
END:VEVENT
BEGIN:VEVENT
SUMMARY:Обновление UI и API
DTSTART:20250526T170000Z
DTEND:20250526T180000Z
DTSTAMP:20260421T142700Z
UID:1f09ff2a-36b9-4498-b574-a1cb14620923
CATEGORIES:
CREATED:20250526T074817Z
DESCRIPTION:Техническое обслуживание было ус
 пешно завершено! Спасибо\, что были с нам
 и. Если после обслуживания вы испытывает
 е какие-либо сложности в работе услуги\, 
 пожалуйста\, напишите в нашу службу подд
 ержки.
URL:https://status.statusmate.ru/m/1f09ff2a-36b9-4498-b574-a1cb14620923/
END:VEVENT
BEGIN:VEVENT
SUMMARY:Обновление UI и API
DTSTART:20250517T180000Z
DTEND:20250517T181446Z
DTSTAMP:20260421T142700Z
UID:3cb4f364-8017-475a-a054-d106ab77ed64
CATEGORIES:
CREATED:20250517T110630Z
DESCRIPTION:Техническое обслуживание было ус
 пешно завершено! Спасибо\, что были с нам
 и. Если после обслуживания вы испытывает
 е какие-либо сложности в работе услуги\, 
 пожалуйста\, напишите в нашу службу подд
 ержки.
URL:https://status.statusmate.ru/m/3cb4f364-8017-475a-a054-d106ab77ed64/
END:VEVENT
BEGIN:VEVENT
SUMMARY:Обновление API
DTSTART:20250423T170000Z
DTEND:20250423T171500Z
DTSTAMP:20260421T142700Z
UID:de6b050e-c5d5-432a-a720-8622d52cd03a
CATEGORIES:
CREATED:20250423T113548Z
DESCRIPTION:Техническое обслуживание было ус
 пешно завершено! Спасибо\, что были с нам
 и. Если после обслуживания вы испытывает
 е какие-либо сложности в работе услуги\, 
 пожалуйста\, напишите в нашу службу подд
 ержки.
URL:https://status.statusmate.ru/m/de6b050e-c5d5-432a-a720-8622d52cd03a/
END:VEVENT
BEGIN:VEVENT
SUMMARY:Обновление UI и API
DTSTART:20250422T190000Z
DTEND:20250422T193003Z
DTSTAMP:20260421T142700Z
UID:c298807e-7541-4a9c-a3df-62432c002bcb
CATEGORIES:
CREATED:20250421T100626Z
DESCRIPTION:Техническое обслуживание было ус
 пешно завершено! Спасибо\, что были с нам
 и. Если после обслуживания вы испытывает
 е какие-либо сложности в работе услуги\, 
 пожалуйста\, напишите в нашу службу подд
 ержки.
URL:https://status.statusmate.ru/m/c298807e-7541-4a9c-a3df-62432c002bcb/
END:VEVENT
END:VCALENDAR
